Workbook

Sheet Data Sheet
A1: TOWN OF WINDSOR
A2: DEVELOPMENT IMPACT FEE CALCULATION DATA SHEET
A4: PROJECT DATA
A5: Project or Subdivision Name
A6: Site Address
A7: APN(s)
A8: Building Permit No.
A9: Planning File No.
A10: Subdivision (Y/N)
A11: Subdivision Lot No.
A12: Residential Units (#) and (SF) | C12: Notes/Instructions
A13: Single Family Dwelling (Total # Units) | B13: =SUM(B14:B15) -> 0 | C13: Includes Single Family Dwelling units and Small Single Family Residential units for total number of units
A14: Standard Single Family Residential (# Units)
A15: Small Single Family Residential (# Units) | B15: 0 | C15: Maximum 1,200-square foot unit on 4,000-square lot or smaller
A16: Total Single Family Living Space (SF) | C16: Excluding garages, carports, walkways, overhangs, enclosed patios, detached storage structures, and similar
A17: Multi-Family (# Units) | C17: Includes duplex, triplex, fourplex, townhome, apartment, condominium, and live/work units. Water connection fees included in per unit fee.
A18: Total Multi-Family Living Space (SF) | B18: 0 | C18: Excluding garages, carports, walkways, overhangs, enclosed patios, detached storage structures, and similar
A19: Accessory Dwelling Units (ADUs) (# Units) | B19: 0 | C19: ADUs shall not have separate sewer connections or water service
A20: Large ADUs (SF) | B20: 0 | C20: Large ADUs are those that are 750 square feet or greater
A21: Manufactured/Mobile Homes (# Units) | B21: 0
A22: Total Manufactured/Mobile Homes Living Space (SF) | B22: 0 | C22: Excluding garages, carports, walkways, overhangs, enclosed patios, detached storage structures, and similar
A23: Commercial and Industrial (SF) | C23: Notes/Instructions
A24: Commercial (Total SF) | C24: Commercial and Industrial projects only, not applicable to Multi-Family.
A25: Commercial - Drive-Through (SF)
A26: Commercial - Self Storage (SF)
A27: Office (SF)
A28: Light Industrial (SF)
A29: Heavy Industrial (SF)
A30: Institutional (SF)
A31: Water Capacity - Water Meters (#) | C31: Notes/Instructions
A32: 5/8" Meter | C32: 5/8"meters allowed for meter replacement only with Public Works approval
A33: 3/4" Meter | C33: 3/4"meters allowed for meter replacement only with Public Works approval
A34: 1" Meter | C34: The minimum meter size for a new single family residential unit is 1". Check with Building Division regarding new sprinkler requirements. Domestic service refers to potable water.
A35: 1½“ Meter
A36: Non-Residential Water Connections (#) | C36: Notes/Instructions
A37: 1" Non-Residential Water Meter
A38: 1½" Non-Residential Water Meter
A39: 2" Non-Residential Water Meter
A40: 3" Non-Residential Water Meter
A41: 4" Non-Residential Water Meter
...

Sheet Summary Sheet
A1: TOWN OF WINDSOR DEVELOPMENT IMPACT FEE
A2: SUMMARY ESTIMATE
A3: Project or Subdivision Name | B3: ='Data Sheet'!B5 -> 0
A4: Site Address | B4: ='Data Sheet'!B6 -> 0
A5: APN(s) | B5: ='Data Sheet'!B7 -> 0
A6: Planning File No. | B6: ='Data Sheet'!B9 -> 0
A7: Parks and Recreation | D7: ='Parks & Rec'!E33 -> 0
A8: Police | D8: =Police!E16 -> 0
A9: Public Works | D9: ='Public Works'!F118 -> 0
A10: Drainage Development | C10: ='Public Works'!F21 -> 0
A11: Traffic Impact | C11: ='Public Works'!F38 -> 0
A12: Water Capacity | C12: ='Public Works'!F67 -> 0
A13: 1. Meter Installation | B13: ='Public Works'!F47 -> 0
A14: 2. Domestic Connection | B14: ='Public Works'!F61 -> 0
A15: 3. Irrigation Connection | B15: ='Public Works'!F66 -> 0
A16: Recycled Water | C16: ='Public Works'!F79 -> 0
A17: Water Reclamation/Calculated Wastewater Capacity Fee | C17: ='Public Works'!F110+'Public Works'!F116 -> 0
A18: Town of Windsor - Housing In-Lieu Fees (confirm with Planning Division) | D18: =Housing!E13 -> 0
A19: Town of Windsor - Tree Mitigation In-Lieu Fees (confirm with Planning Division) | D19: =tree!E80 -> 0
A20: Town of Windsor - Other Fees (confirm with Planning Division) | D20: 0
A21: Town of Windsor - Other (Initial Building/Grading Permit for Horizontal Site Work) (1) | D21: 0
A22: Town of Windsor - (Building Permit Fees) (1) | D22: 0
A23: Town of Windsor Subtotal | D23: =SUM(D7:D22) -> 0
A24: Windsor Unified School District (2) | D24: =WUSD!E13 -> 0
A25: Sonoma County Fire District (2) | D25: =Fire!E21 -> 0
A26: TOTAL | D26: =SUM(D23:D25) -> 0
A27: (1) Based on valuation and Fiscal Year 26-27 permit fee schedule
A28: (2) Fees for the following outside agencies are provided as a courtesy only and should be verified:
A29: Windsor Unified School District: Gillian Hornbostel ghornbostel@wusd.org or (707) 837-7708
A30: Sonoma County Fire District: Cyndi Foreman cforeman@sonomacountyfd.org or (707) 892-2003

Sheet Public Works
A1: PUBLIC WORKS
A2: DEVELOPMENT IMPACT FEE CALCULATIONS
A3: Project or Subdivision Name: | B3: ='Data Sheet'!B5 -> 0
A4: Site Address: | B4: ='Data Sheet'!B6 -> 0
A5: Assessor's Parcel Number(s): | B5: ='Data Sheet'!B7 -> 0
A6: File No.: | B6: ='Data Sheet'!B9 -> 0
A7: Subdivision Lot No. | B7: ='Data Sheet'!B11 -> 0
A8: Mixed Use (Y/N) | B8: ='Data Sheet'!B91 -> 0
A9: Backflow Device Required (Y/N) | B9: ='Data Sheet'!B93 -> 0
A10: Fire Service Line Size | B10: ='Data Sheet'!B94 -> 0
A11: Total ESD | B11: =(SUM(F82:F85)+SUM(F87:F93)+SUM(F95:F101)+SUM(F103:F109)+F116)/C87 -> 0
A12: Total due with this Building Permit | B12: =F118 -> 0
A13: Verified By: | D13: Date:
A15: Drainage Development | H15: Old GL | I15: New GL | J15: Charge Code
A16: Description | B16: Quantity | C16: Unit Cost | D16: Unit | E16: Due With This Permit
A17: Single Family | B17: ='Data Sheet'!B13 -> 0 | C17: ='FY26-27 FEE Worksheet'!K124 -> 4022 | D17: dwelling unit | E17: =ROUND(+B17*C17,2) -> 0 | H17: 230-63-00-0000-3655-600 | I17: 47-00-00-0000-8880- | J17: DRIMRS
A18: Multi-Family | B18: ='Data Sheet'!B17 -> 0 | C18: ='FY26-27 FEE Worksheet'!K125 -> 2373 | D18: dwelling unit | E18: =ROUND(+B18*C18,2) -> 0
A19: Commercial | B19: =SUM('Data Sheet'!B24+'Data Sheet'!B25,'Data Sheet'!B27) -> 0 | C19: ='FY26-27 FEE Worksheet'!K127 -> 1408 | D19: per 1,000 SF | E19: =ROUND(+B19*C19,2)/1000 -> 0 | H19: 230-63-00-0000-3655-601 | I19: 47-00-00-0000-8880- | J19: DRIMNR
A20: Industrial | B20: ='Data Sheet'!B28+'Data Sheet'!B29 -> 0 | C20: ='FY26-27 FEE Worksheet'!K128 -> 1769 | D20: per 1,000 SF | E20: =ROUND(+B20*C20,2)/1000 -> 0
D21: Total Drainage Fees | F21: =SUM(E17:F20) -> 0
A22: Traffic Impact Development
A23: Description | B23: Quantity | C23: Unit Cost | D23: Unit | E23: Due With This Permit
A24: Single Family Detached | B24: ='Data Sheet'!B13 -> 0 | C24: ='FY26-27 FEE Worksheet'!K103 -> 13796 | D24: dwelling unit | E24: =B24*C24 -> 0 | H24: 210-63-00-0000-3655-600 | I24: 42-00-00-0000-8880- | J24: TRFMRS
A25: Multi-Family | B25: ='Data Sheet'!B17 -> 0 | C25: ='FY26-27 FEE Worksheet'!K104 -> 7804 | D25: dwelling unit | E25: =B25*C25 -> 0
A26: Accessory Dwelling Unit | B26: ='Data Sheet'!B19 -> 0 | C26: ='FY26-27 FEE Worksheet'!K105 -> 0 | D26: dwelling unit | E26: =B26*C26 -> 0
A27: Residential Subtotal | E27: =SUM(E24:E26) -> 0
A28: Commercial | B28: ='Data Sheet'!B24 -> 0 | C28: ='FY26-27 FEE Worksheet'!K106 -> 11707 | D28: per 1,000 SF | E28: =B28*C28/1000 -> 0 | H28: 210-63-00-0000-3655-601 | I28: 42-00-00-0000-8880- | J28: TRFMNR
A29: Commercial with Drive-Through | B29: ='Data Sheet'!B25 -> 0 | C29: ='FY26-27 FEE Worksheet'!K107 -> 14076 | D29: per 1,000 SF | E29: =B29*C29/1000 -> 0
A30: Office | B30: ='Data Sheet'!B27 -> 0 | C30: ='FY26-27 FEE Worksheet'!K108 -> 8921 | D30: per 1,000 SF | E30: =B30*C30/1000 -> 0
A31: Light industrial | B31: ='Data Sheet'!B28 -> 0 | C31: ='FY26-27 FEE Worksheet'!K109 -> 5853 | D31: per 1,000 SF | E31: =B31*C31/1000 -> 0
A32: Heavy Industrial | B32: ='Data Sheet'!B29 -> 0 | C32: ='FY26-27 FEE Worksheet'!K110 -> 1672 | D32: per 1,000 SF | E32: =B32*C32/1000 -> 0
A33: Institutional | B33: ='Data Sheet'!B30 -> 0 | C33: ='FY26-27 FEE Worksheet'!K111 -> 9059 | D33: per 1,000 SF | E33: =B33*C33/1000 -> 0
A34: Commercial Subtotal | E34: =SUM(E28:E33) -> 0
A35: Mixed Use Credit: Residential OR Non-Residential | B35: -0.15 | E35: =IF(B8="y",(MIN(E27,E34)*B35),0) -> 0 | H35: 210-63-00-0000-3655-600 | I35: 42-00-00-0000-8880- | J35: TRFMRS
A36: Transit Core Credit Residential | B36: -0.09 | E36: =IF('Data Sheet'!B92="Y",E27*B36,0) -> 0
A37: Transit Core Credit Non-Residential | B37: -0.03 | E37: =IF('Data Sheet'!B92="Y",E34*B37,0) -> 0 | H37: 210-63-00-0000-3655-601 | I37: 42-00-00-0000-8880- | J37: TRFMNR
A38: Total Traffic Fees | F38: =E27+E34+E35+E36+E37 -> 0
A39: Water Capacity
A40: Description | B40: Quantity | D40: Unit Cost | E40: Unit | F40: Due With This Permit
A41: Meter and Installation | B41: Domestic | C41: Irrigation | P41: Per HB
...

Sheet Parks & Rec
A1: PARKS AND RECREATION
A2: DEVELOPMENT IMPACT FEE CALCULATIONS
A3: Project Name: | B3: ='Data Sheet'!B5 -> 0
A4: Site Address: | B4: ='Data Sheet'!B6 -> 0
A5: Assessor's Parcel Number(s): | B5: ='Data Sheet'!B7 -> 0
A6: File No.: | B6: ='Data Sheet'!B9 -> 0
A7: Verified by: | D7: Date:
A9: Description | B9: Quantity | C9: Unit Cost | D9: Unit | E9: Due with this permit
A10: Park Development | H10: Legacy GL | I10: New GL | J10: Charge Code
B11: ='Data Sheet'!B13 -> 0 | C11: ='FY26-27 FEE Worksheet'!K135 -> 13829 | D11: dwelling unit | E11: =ROUND(+B11*C11,0) -> 0 | H11: 220-74-00-0000-3655-388 | I11: 43-00-00-0000-8880 | J11: PRKIMP
A12: Residential Multiple Family | B12: ='Data Sheet'!B17 -> 0 | C12: ='FY26-27 FEE Worksheet'!K136 -> 11243 | D12: dwelling unit | E12: =ROUND(+B12*C12,0) -> 0
A13: Residential Mobile Home | B13: ='Data Sheet'!B21 -> 0 | C13: ='FY26-27 FEE Worksheet'!K137 -> 9839 | D13: dwelling unit | E13: =ROUND(+B13*C13,0) -> 0
A14: Recreation Development
A15: Residential Single Family | B15: =B11 -> 0 | C15: ='FY26-27 FEE Worksheet'!K164 -> 774 | D15: dwelling unit | E15: =ROUND(+B15*C15,0) -> 0 | H15: 221-76-00-0000-3655-000 | I15: 44-00-00-0000-8880 | J15: RCDVRS
A16: Residential Multiple Family | B16: ='Data Sheet'!B17 -> 0 | C16: ='FY26-27 FEE Worksheet'!K165 -> 618 | D16: dwelling unit | E16: =ROUND(+B16*C16,0) -> 0
A17: Residential Mobile Home | B17: ='Data Sheet'!B21 -> 0 | C17: ='FY26-27 FEE Worksheet'!K166 -> 541 | D17: dwelling unit | E17: =ROUND(+B17*C17,0) -> 0
A18: New Trails Development
A19: Residential Single Family | B19: ='Data Sheet'!B13 -> 0 | C19: ='FY26-27 FEE Worksheet'!K196 -> 255 | D19: dwelling unit | E19: =ROUND(+B19*C19,0) -> 0 | H19: 222-74-00-0000-3655-000 | I19: 45-00-00-0000-8880 | J19: NWTRDR
A20: Residential Multiple Family | B20: ='Data Sheet'!B17 -> 0 | C20: ='FY26-27 FEE Worksheet'!K197 -> 205 | D20: dwelling unit | E20: =ROUND(+B20*C20,0) -> 0
A21: Residential Mobile Home | B21: ='Data Sheet'!B21 -> 0 | C21: ='FY26-27 FEE Worksheet'!K198 -> 179 | D21: dwelling unit | E21: =ROUND(+B21*C21,0) -> 0
A22: Open Space Development
A23: Residential Single Family | B23: ='Data Sheet'!B13 -> 0 | C23: ='FY26-27 FEE Worksheet'!K180 -> 5 | D23: dwelling unit | E23: =ROUND(+B23*C23,0) -> 0 | H23: 223-74-00-0000-3655-000 | I23: 46-00-00-0000-8880 | J23: OPSPRS
A24: Residential Multiple Family | B24: ='Data Sheet'!B17 -> 0 | C24: ='FY26-27 FEE Worksheet'!K181 -> 4 | D24: dwelling unit | E24: =ROUND(+B24*C24,0) -> 0
A25: Residential Mobile Home | B25: ='Data Sheet'!B21 -> 0 | C25: ='FY26-27 FEE Worksheet'!K182 -> 2 | D25: dwelling unit | E25: =ROUND(+B25*C25,0) -> 0
A26: Public Facilities Development
A27: Residential Single Family | B27: ='Data Sheet'!B13 -> 0 | C27: ='FY26-27 FEE Worksheet'!K212 -> 1785 | D27: dwelling unit | E27: =ROUND(+B27*C27,0) -> 0 | H27: 190-40-00-0000-3655-600 | I27: 40-00-00-0000-8880 | J27: PUFCRS
A28: Residential Multiple Family | B28: ='Data Sheet'!B17 -> 0 | C28: ='FY26-27 FEE Worksheet'!K213 -> 1428 | D28: dwelling unit | E28: =ROUND(+B28*C28,0) -> 0
A29: Residential Mobile Home | B29: ='Data Sheet'!B21 -> 0 | C29: ='FY26-27 FEE Worksheet'!K214 -> 1250 | D29: dwelling unit | E29: =ROUND(+B29*C29,0) -> 0
A30: Commercial | B30: ='Data Sheet'!B24 -> 0 | C30: ='FY26-27 FEE Worksheet'!K218 -> 1189 | D30: per 1,000 SF | E30: =B30*(C30/1000) -> 0 | H30: 190-40-00-0000-3655-601 | I30: 40-00-00-0000-8880 | J30: PUFCNR
A31: Office | B31: ='Data Sheet'!B27 -> 0 | C31: ='FY26-27 FEE Worksheet'!K219 -> 1963 | D31: per 1,000 SF | E31: =B31*(C31/1000) -> 0
A32: Industrial | B32: ='Data Sheet'!B28+'Data Sheet'!B29 -> 0 | C32: ='FY26-27 FEE Worksheet'!K220 -> 833 | D32: per 1,000 SF | E32: =B32*(C32/1000) -> 0
A33: TOTAL PARKS AND RECREATION IMPACT FEES | E33: =SUM(E11:F13,E15:F17,E19:F21,E23:F25,E27:F32) -> 0
A34: Rates Effective July 1, 2026
A35: RESOLUTION HISTORY
A36: Park Development | B36: 2673-10 (eff 6/21/10) | C36: 3339-17 (eff 5/1/17)
A37: Recreation Development | B37: 2673-10 (eff 6/21/10) | C37: 3340-17 (eff 5/1/17)
A38: New Trails Development | B38: 3342-17 (eff 5/1/17)
A39: Open Space Development | B39: 3341-17 (eff 5/1/17)
A40: Public Facilities Development | B40: 2674-10 (eff 6/21/10) | C40: 3343-17 (eff 5/1/17)

Sheet Police
A1: POLICE
A2: DEVELOPMENT IMPACT FEE CALCULATIONS
A3: Project Name: | B3: ='Data Sheet'!B5 -> 0
A4: Site Address: | B4: ='Data Sheet'!B6 -> 0
A5: Assessor's Parcel Number(s): | B5: ='Data Sheet'!B7 -> 0
A6: File No.: | B6: ='Data Sheet'!B9 -> 0
A7: Verified By | D7: Date:
A9: Description | B9: Quantity | C9: Unit Cost | D9: Unit | E9: Due with this permit
A10: Single Family Dwelling | B10: ='Data Sheet'!B13 -> 0 | C10: ='FY26-27 FEE Worksheet'!K238 -> 130 | D10: dwelling unit | E10: =ROUND(+B10*C10,0) -> 0 | H10: 235-50-00-0000-3655-000 | I10: 48-00-00-0000-8880 | L10: POLMIT
A11: Multi-Family | B11: ='Data Sheet'!B17 -> 0 | C11: ='FY26-27 FEE Worksheet'!K239 -> 104 | D11: dwelling unit | E11: =ROUND(+B11*C11,0) -> 0
A12: Manufactured/Mobile Homes | B12: ='Data Sheet'!B21 -> 0 | C12: ='FY26-27 FEE Worksheet'!K240 -> 93 | D12: dwelling unit | E12: =ROUND(+B12*C12,0) -> 0
A13: Retail / Commercial | B13: ='Data Sheet'!B24 -> 0 | C13: ='FY26-27 FEE Worksheet'!K244 -> 31 | D13: per 1,000 SF | E13: =ROUND(+B13*C13,0)/1000 -> 0
A14: Office | B14: ='Data Sheet'!B27 -> 0 | C14: ='FY26-27 FEE Worksheet'!K245 -> 49 | D14: per 1,000 SF | E14: =B14*C14/1000 -> 0
A15: Industrial | B15: ='Data Sheet'!B28+'Data Sheet'!B29 -> 0 | C15: ='FY26-27 FEE Worksheet'!K246 -> 22 | D15: per 1,000 SF | E15: =B15*C15/1000 -> 0
A16: Rates Effective July 1, 2026 | B16: TOTAL POLICE IMPACT FEES | E16: =SUM(E10:F15) -> 0

Sheet Fire
A1: SONOMA COUNTY FIRE DISTRICT
A2: IMPACT FEE CALCULATIONS
A3: Project Name: | B3: ='Data Sheet'!B5 -> 0
A4: Site Address: | B4: ='Data Sheet'!B6 -> 0
A5: Assessor's Parcel Number(s): | B5: ='Data Sheet'!B7 -> 0
A6: File No.: | B6: ='Data Sheet'!B9 -> 0
A7: Mixed Use Project (Y/N) | B7: ='Data Sheet'!B91 -> 0
A8: Verified By: | D8: Date:
A10: Description | B10: Quantity | C10: Unit Cost | D10: Unit | E10: Due with this permit | I10: New GL | J10: Charge Code
A11: Residential Single Family (SF) | B11: ='Data Sheet'!B16 -> 0 | C11: ='FY26-27 FEE Worksheet'!K263 -> 1.9802828 | D11: living area SF | E11: =B11*C11 -> 0 | H11: 241-00-00-0000-3655-000 | I11: 49-00-00-0000-8880 | J11: FIRMIT
A12: Residential Multiple Family (SF) | B12: ='Data Sheet'!B18 -> 0 | C12: ='FY26-27 FEE Worksheet'!K264 -> 2.6061752 | D12: living area SF | E12: =B12*C12 -> 0
A13: Residential Mobile Home (SF) | B13: ='Data Sheet'!B22 -> 0 | C13: ='FY26-27 FEE Worksheet'!K265 -> 1.4467351 | D13: living area SF | E13: =B13*C13 -> 0
A14: Large Residential ADU (750 SF or greater) (1) | B14: ='Data Sheet'!B20 -> 0 | C14: =C11 -> 1.9802828 | D14: living area SF | E14: =B14*C14 -> 0
A15: Commercial (2) | B15: ='Data Sheet'!B24 -> 0 | C15: ='FY26-27 FEE Worksheet'!K270 -> 2.1957539 | D15: building area SF | E15: =B15*C15 -> 0
A16: Office (2) | B16: ='Data Sheet'!B27 -> 0 | C16: ='FY26-27 FEE Worksheet'!K271 -> 3.6117074 | D16: building area SF | E16: =B16*C16 -> 0
A17: Industrial (2) | B17: ='Data Sheet'!B28+'Data Sheet'!B29 -> 0 | C17: ='FY26-27 FEE Worksheet'!K272 -> 1.5390799 | D17: building area SF | E17: =B17*C17 -> 0
A18: Residential Total Fees | E18: =SUM(E11:F14) -> 0
A19: Non-Residential Total Fees | E19: =SUM(E15:F17) -> 0
A20: Mixed Use Credit (3) | E20: =IF((B7="N"),0,(-MIN(E18:E19)*0.15)) -> 0
A21: TOTAL SONOMA COUNTY FIRE DISTRICT IMPACT FEES | E21: =SUM(E18:F20) -> 0
A22: Rates Effective July 1, 2026
A23: RESOLUTION HISTORY
A24: Windsor Fire Protection District | B24: 2675-10 | C24: 3347-17
A25: Sonoma County Fire District | B25: 3696-21 (eff 11/1/21)
A27: Notes:
A28: (1) Pursuant to Govt Code 65852.2f.3.A, development impact fees for a new ADU must be imposed proportionately in relation to the SF of the primary dwelling unit. ADUs with less than 750 SF of living area are exempt.
A29: (2) A fee shall be charged and paid for each non-residential development involving any addition to any existing building or structure if the addition exceeds 1,000 square feet and if it increases the existing building or structure by twenty-five (25%) or more upon issuance of the building permit for such non-residential development. The non-rsidential fee shall be charged for "covered and enclosed space" within the perimeter of a non-residential structure. Garages, parking structgure, unenclosed walkways, utility or disposal areas, and storage areas incidental to the principal use of the development are excluded.
A30: (3) The amount of the fee for mixed-use development shall be the sum of the following, as applicable:
A31: i. The applicable amount per residential unit, as calculated above.
A32: ii. The applicable amount per 1,000 square feet of commercial space, as calculated above.
A33: iii. The total fee for the mixed-use development shall be decreased by 15% of the lower amount calculated in 3(i) and 3(ii), above.

Sheet WUSD
A1: WINDSOR UNIFIED SCHOOL DISTRICT
A2: IMPACT FEE CALCULATIONS
A3: Project Name: | B3: ='Data Sheet'!B5 -> 0
A4: Site Address: | B4: ='Data Sheet'!B6 -> 0
A5: Assessor's Parcel Number(s): | B5: ='Data Sheet'!B7 -> 0
A6: File No.: | B6: ='Data Sheet'!B9 -> 0
A7: Verified By: | D7: Date:
A9: Description | B9: Quantity | C9: Unit Cost | D9: Unit or SF | E9: Due with this permit
A10: Residential | B10: ='Data Sheet'!B16+'Data Sheet'!B18+'Data Sheet'!B22 -> 0 | C10: 5.17 | D10: square foot | E10: =B10*C10 -> 0
A11: Commercial | B11: ='Data Sheet'!B24+'Data Sheet'!B25+'Data Sheet'!B27+'Data Sheet'!B28+'Data Sheet'!B29+'Data Sheet'!B30 -> 0 | C11: 0.84 | D11: square foot | E11: =B11*C11 -> 0
A12: Mini Storage | B12: ='Data Sheet'!B26 -> 0 | C12: 0.04 | D12: square foot | E12: =B12*C12 -> 0
A13: TOTAL WINDSOR UNIFIED SCHOOL DISTRICT IMPACT FEES | E13: =SUM(E10:E12) -> 0
A14: Rates Effective July 1, 2026
A15: 1. Developer/Homeowner obtains Certificate of Compliance from Town of Windsor
A16: 2. Town of Windsor verifies square footage
A17: 3. Developer/Homeowner brings certificate and payment (see rates below) to WUSD's District office@ 9291 Old Redwood Hwy., #500, Windsor, CA
A18: 4. The District office will prepare a receipt and record receipt number on form. Payment, certificate copy, and cash receipt to be given to Business Office.

Sheet Housing
A1: TOWN OF WINDSOR
A2: HOUSING IN-LIEU FEES
A4: Building Permit No. | D4: ='[1]Data Sheet'!B8 -> 0
A5: Site Address: | D5: ='[1]Data Sheet'!B6 -> 0
A6: Project Name: | D6: ='[1]Data Sheet'!B5 -> 0
A7: APN: | D7: ='[1]Data Sheet'!B7 -> 0
A8: Subdivision: | D8: ='[1]Data Sheet'!B11 -> 0
A9: Lot No:
A10: If Tenant Improvement permit,
A11: the initial Bldg Permit was:
K12: Prepared By:
D13: Total due with this Building Permit: | E13: =M47 -> 0 | K13: Date:
A15: Unit Type by Size (SF) | B15: # Units | C15: SF/DU | D15: Fee/SF | E15: Flat Fee Per Unit | F15: Due with this permit | H15: Unit Type by Size (SF) | I15: # Units | J15: SF/DU | K15: Fee/SF | L15: Flat Fee Per Unit | M15: Due with this permit
A16: Up to 999 | C16: N/A | D16: N/A | E16: 2000 | F16: =B16*E16 -> 0 | H16: 2500 | K16: 5.96 | L16: N/A | M16: =I16*J16*K16 -> 0
A17: 1000 | D17: 4.87 | E17: N/A | F17: =B17*C17*D17 -> 0 | H17: 2550 | K17: 6.01 | L17: N/A | M17: =I17*J17*K17 -> 0
A18: 1050 | D18: 4.91 | E18: N/A | F18: =B18*C18*D18 -> 0 | H18: 2600 | K18: 6.03 | L18: N/A | M18: =I18*J18*K18 -> 0
A19: 1100 | D19: 4.94 | E19: N/A | F19: =B19*C19*D19 -> 0 | H19: 2650 | K19: 6.08 | L19: N/A | M19: =I19*J19*K19 -> 0
A20: 1150 | D20: 4.99 | E20: N/A | F20: =B20*C20*D20 -> 0 | H20: 2700 | K20: 6.11 | L20: N/A | M20: =I20*J20*K20 -> 0
A21: 1200 | D21: 5.01 | E21: N/A | F21: =B21*C21*D21 -> 0 | H21: 2750 | K21: 6.16 | L21: N/A | M21: =I21*J21*K21 -> 0
A22: 1250 | D22: 5.06 | E22: N/A | F22: =B22*C22*D22 -> 0 | H22: 2800 | K22: 6.18 | L22: N/A | M22: =I22*J22*K22 -> 0
A23: 1300 | D23: 5.09 | E23: N/A | F23: =B23*C23*D23 -> 0 | H23: 2850 | K23: 6.23 | L23: N/A | M23: =I23*J23*K23 -> 0
A24: 1350 | D24: 5.13 | E24: N/A | F24: =B24*C24*D24 -> 0 | H24: 2900 | K24: 6.25 | L24: N/A | M24: =I24*J24*K24 -> 0
A25: 1400 | D25: 5.16 | E25: N/A | F25: =B25*C25*D25 -> 0 | H25: 2950 | K25: 6.3 | L25: N/A | M25: =I25*J25*K25 -> 0
A26: 1450 | D26: 5.21 | E26: N/A | F26: =B26*C26*D26 -> 0 | H26: 3000 | K26: 6.33 | L26: N/A | M26: =I26*J26*K26 -> 0
A27: 1500 | D27: 5.23 | E27: N/A | F27: =B27*C27*D27 -> 0 | H27: 3050 | K27: 6.37 | L27: N/A | M27: =I27*J27*K27 -> 0
A28: 1550 | D28: 5.28 | E28: N/A | F28: =B28*C28*D28 -> 0 | H28: 3100 | K28: 6.4 | L28: N/A | M28: =I28*J28*K28 -> 0
... A46: 2450 | D46: 5.94 | E46: N/A | F46: =B46*C46*D46 -> 0 | H46: 4000 | K46: 7.06 | L46: N/A | M46: =I46*J46*K46 -> 0
H47: Total Housing In-Lieu Fees | M47: =SUM(M16:M46)+SUM(F16:F46) -> 0

Sheet tree
A1: TOWN OF WINDSOR
A2: TREE MITIGATION IN-LIEU FEES
A3: Project Name: | C3: ='[1]Data Sheet'!B5 -> 0
A4: Site Address: | C4: ='[1]Data Sheet'!B6 -> 0
A5: Assessor's Parcel Number(s): | C5: ='[1]Data Sheet'!B7 -> 0
A6: File No.: | C6: ='[1]Data Sheet'!B9 -> 0
A7: Verified by: | D7: Date:
A8: Tree # | B8: Diameter (In) | C8: % Mitigated | D8: Notes | E8: Mitigation Fees
E9: 0
E10: 0
E11: 0
E12: 0
E13: 0
E14: 0
E15: 0
E16: 0
E17: 0
E18: 0
E19: 0
E20: 0
... E25: 0
E26: 0 | G26: Legacy | H26: New GL | I26: Charge Code
E27: 0 | G27: 195-00-00-0000-3655-601 | H27: 41-00-00-0000-8880- | I27: TREMNR
E28: 0 | G28: Security Deposit | H28: 41-00-00-0000-9530- | I28: CDTRDP
C29: 1 | F29: Cells 59 - 108 Hidden. Option to unhide to add additional trees
C30: 1
C31: 1
C32: 1
C33: 1
C34: 1
C35: 1
C36: 1
C37: 1
C38: 1
C39: 1
C40: 1
C41: 1
... C79: 1
E80: =SUM(E9:E79) -> 0 | F80: Total costs are hardcoded to the summary page, no need to update formula
A82: In-Lieu Replacement Fees
...

Sheet FY26-27 FEE Worksheet
A1: Development Impact Fee Adjustment Effective July 1, 2026
O2: Administrative Fee
A3: Fee Adjustment Calculation | P3: 1.0077
B4: Fee Adjustment Per Resolution - Section 12 *
A5: Component | B5: Beginning Factor | C5: Ending Factor | D5: Difference | E5: % Increase | F5: Notes | P5: 0.038 | Q5: <-- CPI - All Urban Consumers for San Francisco - Oakland - San Jose by US Dept of Labor for April
A6: Construction costs - ENR (Apr to Apr) | B6: 13798.28 | C6: 14157.77 | D6: =+C6-B6 -> 359.49 | E6: =+D6/B6 -> 0.026053247 | F6: Applies to Traffic Mit, Public Facil, Fire Facil & Park Development Impact Fees
A7: Construction costs - ENR (Jun to Jun) | B7: 13871 | C7: 14257.36 | D7: =+C7-B7 -> 386.36 | E7: =+D7/B7 -> 0.027853796 | F7: Applies to Water Capacity Fee & Water Reclamation Capacity Fees, Drainage
A8: Land acquisition costs | B8: 0 | C8: 0 | D8: =+C8-B8 -> 0 | E8: 0 | F8: No longer applies to Drainage | N8: NOTES:
A9: Land acquisition costs - ENR (Apr) | B9: =B6 -> 13798.28 | C9: =C6 -> 14157.77 | D9: =+C9-B9 -> 359.49 | E9: =+D9/B9 -> 0.026053247 | F9: Applies to Public Facilities & Park Development Impact Fees | N9: Only change the cells that are in RED
A10: Facilities costs | B10: 359.4 | C10: =B10*(1+P5) -> 373.0572 | D10: =+C10-B10 -> 13.6572 | E10: =+D10/B10 -> 0.038 | F10: Applies to Facilities Component of Impact Fees | N10: Cells in grey are formula based. Do not touch
N11: Take C6 number and enter into B6 which will start the beginning factor from prior year info. The NEW C6 will be from ENR
A12: * The fee adjustment for: (1) construction costs is based on ENR construction cost indices; (2) land acquisition costs is based on 5/05 and 5/06 estimates | N12: Repeat for C7 & C10
A13: or ENR for fees adopted in 2010; (3) facilities costs is based on prior year x All Urban Consumers CPI inflation adjustment. | N13: ENR website for construction costs https://www.enr.com/economics/historical_indices/construction_cost_index_history
A14: Note: The tables below of construction, land acquisition and facilities costs are from the development impact fee consultant reports.
H15: Old GL | I15: New GL | J15: Charge Code
A17: Water Capacity Fees
B18: Table 1 | C18: % of Total
A19: Construction costs | B19: 14907600 | C19: =+B19/B22 -> 1
A20: Land acquisition costs | B20: 0 | C20: =+B20/B22 -> 0 | N20: NOTES:
A21: Facilities costs | B21: 0 | C21: =+B21/B22 -> 0 | N21: Update cells B27-B43 with prior Effective rates located in cells K27-K44
A22: Total | B22: =SUM(B19:B21) -> 14907600 | C22: =SUM(C19:C21) -> 1 | N22: Cells K27-K44 will automatically populate by the formuas above
A23: Resolution 1566-03 effective 12/3/03; Resolution 2764-11 effective 3/20/11; Resolution 1864-17 effective 4/16/17 | N23: Effective date will be updated by cell K133
D24: Apportionment | H24: With % Increase (per fee adjmt above) | K24: =$K$133 -> Effective 7/1/26 | N24: REPEAT steps below for the remaining Fees
B25: Prior Fee | D25: Const. | E25: Land Acq. | F25: Facil. | H25: Const. | I25: Land Acq. | J25: Facil.
A26: Standard Single Family
A27: Small Single Residence (2) | B27: 3341 | C27: /residence | D27: =B27 -> 3341 | E27: 0 | F27: 0 | H27: =D27*(1+$E$7) -> 3434.0595 | I27: =+E27*(1+$E$9) -> 0 | J27: =F27*(1+$E$10) -> 0 | K27: =ROUND(SUM(H27:J27),0) -> 3434 | L27: /residence
A28: Single Family Residential (1) | B28: 4888 | C28: /residence | D28: =B28 -> 4888 | E28: 0 | F28: 0 | H28: =D28*(1+$E$7) -> 5024.1494 | I28: =+E28*(1+$E$9) -> 0 | J28: =F28*(1+$E$10) -> 0 | K28: =ROUND(SUM(H28:J28),0) -> 5024 | L28: /residence
A29: Accessory Dwelling Unit(ADU) (3) | B29: 0 | C29: /residence | D29: =B29 -> 0 | E29: 0 | F29: 0 | H29: =D29*(1+$E$7) -> 0 | I29: 0 | J29: 0 | K29: =ROUND(SUM(H29:J29),0) -> 0 | L29: /residence
A30: Multi-Family Residential (4) | K30: =ROUND(SUM(H30:J30),0) -> 0
A31: Per Dweling Unit | B31: 2493 | C31: /residence | D31: =B31 -> 2493 | E31: 0 | F31: 0 | H31: =D31*(1+$E$7) -> 2562.4395 | I31: 0 | J31: 0 | K31: =ROUND(SUM(H31:J31),0) -> 2562 | L31: /residence
A32: Non-Residential: | K32: =ROUND(SUM(H32:J32),0) -> 0
A33: 1 inch | B33: 8147 | C33: /meter | D33: =B33 -> 8147 | E33: 0 | F33: 0 | H33: =D33*(1+$E$7) -> 8373.9249 | I33: =+E33*(1+$E$9) -> 0 | J33: =F33*(1+$E$10) -> 0 | K33: =ROUND(SUM(H33:J33),0) -> 8374 | L33: /meter
A34: 1-1/2 inch | B34: 16293 | C34: /meter | D34: =B34 -> 16293 | E34: 0 | F34: 0 | H34: =D34*(1+$E$7) -> 16746.822 | I34: =+E34*(1+$E$9) -> 0 | J34: =F34*(1+$E$10) -> 0 | K34: =ROUND(SUM(H34:J34),0) -> 16747 | L34: /meter
A35: 2 inch | B35: 26070 | C35: /meter | D35: =B35 -> 26070 | E35: 0 | F35: 0 | H35: =D35*(1+$E$7) -> 26796.148 | I35: =+E35*(1+$E$9) -> 0 | J35: =F35*(1+$E$10) -> 0 | K35: 26796 | L35: /meter
A36: 3 inch | B36: 48880 | C36: /meter | D36: =B36 -> 48880 | E36: 0 | F36: 0 | H36: =D36*(1+$E$7) -> 50241.494 | I36: =+E36*(1+$E$9) -> 0 | J36: =F36*(1+$E$10) -> 0 | K36: 50243 | L36: /meter
A37: 4 inch | B37: 81467 | C37: /meter | D37: =B37 -> 81467 | E37: 0 | F37: 0 | H37: =D37*(1+$E$7) -> 83736.165 | I37: =+E37*(1+$E$9) -> 0 | J37: =F37*(1+$E$10) -> 0 | K37: 83740 | L37: /meter
A38: 6 inch | B38: 162935 | C38: /meter | D38: =B38 -> 162935 | E38: 0 | F38: 0 | H38: =D38*(1+$E$7) -> 167473.36 | I38: =+E38*(1+$E$9) -> 0 | J38: =F38*(1+$E$10) -> 0 | K38: 167481 | L38: /meter
A39: 8 inch | B39: 260695 | C39: /meter | D39: =B39 -> 260695 | E39: 0 | F39: 0 | H39: =D39*(1+$E$7) -> 267956.35 | I39: =+E39*(1+$E$9) -> 0 | J39: =F39*(1+$E$10) -> 0 | K39: 267968 | L39: /meter
A40: Dedicated Irrigation | K40: =ROUND(SUM(H40:J40),0) -> 0
A41: 1 inch | B41: 8147 | C41: /meter | D41: =B41 -> 8147 | E41: 0 | F41: 0 | H41: =D41*(1+$E$7) -> 8373.9249 | I41: =+E41*(1+$E$9) -> 0 | J41: =F41*(1+$E$10) -> 0 | K41: =ROUND(SUM(H41:J41),0) -> 8374 | L41: /meter
...
